BEGIN:VCALENDAR
VERSION:2.0
PRODID:SchoolNow
CALSCALE:GREGORIAN
BEGIN:VEVENT
UID:18cb4ee8-b920-11f0-948e-0a58a9feac02
DTSTAMP:20251216T154651Z
SUMMARY:Spring Picture Day
URL;VALUE=URI:https://www.tusd.org/schools/yukon/calendar/8774580/spring-pi
 cture-day
DTSTART;VALUE=DATE:20260408
DTEND;VALUE=DATE:20260409
END:VEVENT
END:VCALENDAR
