BEGIN:VCALENDAR
VERSION:2.0
PRODID:SchoolNow
CALSCALE:GREGORIAN
BEGIN:VEVENT
UID:2492af3e-853e-11f0-8738-0a58a9feac02
DTSTAMP:20251216T154651Z
SUMMARY:5th Grade Promotion
URL;VALUE=URI:https://www.tusd.org/schools/yukon/calendar/8560382/5th-grade
 -promotion
DTSTART:20260610T180000Z
DTEND:20260610T190000Z
END:VEVENT
END:VCALENDAR
