BEGIN:VCALENDAR
VERSION:2.0
PRODID:SchoolNow
CALSCALE:GREGORIAN
BEGIN:VEVENT
UID:2492ae4e-853e-11f0-96cb-0a58a9feac02
DTSTAMP:20251216T154651Z
SUMMARY:PTA Talent Show Night
URL;VALUE=URI:https://www.tusd.org/schools/yukon/calendar/8560381/pta-talen
 t-show-night
DTSTART;VALUE=DATE:20260514
DTEND;VALUE=DATE:20260515
END:VEVENT
END:VCALENDAR
