BEGIN:VCALENDAR
VERSION:2.0
PRODID:SchoolNow
CALSCALE:GREGORIAN
BEGIN:VEVENT
UID:2492ad68-853e-11f0-abd3-0a58a9feac02
DTSTAMP:20251216T154651Z
SUMMARY:Teacher Appreciation
URL;VALUE=URI:https://www.tusd.org/schools/yukon/calendar/8560380/teacher-a
 ppreciation
DTSTART;VALUE=DATE:20260504
DTEND;VALUE=DATE:20260509
END:VEVENT
END:VCALENDAR
