BEGIN:VCALENDAR
VERSION:2.0
PRODID:SchoolNow
CALSCALE:GREGORIAN
BEGIN:VEVENT
UID:2492ac82-853e-11f0-8178-0a58a9feac02
DTSTAMP:20251216T154651Z
SUMMARY:Non Instructional Day
URL;VALUE=URI:https://www.tusd.org/schools/yukon/calendar/8560379/non-instr
 uctional-day
DTSTART;VALUE=DATE:20260501
DTEND;VALUE=DATE:20260502
END:VEVENT
END:VCALENDAR
