BEGIN:VCALENDAR
VERSION:2.0
PRODID:SchoolNow
CALSCALE:GREGORIAN
BEGIN:VEVENT
UID:2492a8fe-853e-11f0-8da1-0a58a9feac02
DTSTAMP:20251216T154651Z
SUMMARY:Progress Reports on PS
URL;VALUE=URI:https://www.tusd.org/schools/yukon/calendar/8560375/progress-
 reports-on-ps
DTSTART;VALUE=DATE:20260320
DTEND;VALUE=DATE:20260321
END:VEVENT
END:VCALENDAR
