BEGIN:VCALENDAR
VERSION:2.0
PRODID:SchoolNow
CALSCALE:GREGORIAN
BEGIN:VEVENT
UID:2492a732-853e-11f0-9f2e-0a58a9feac02
DTSTAMP:20251216T154651Z
SUMMARY:Literacy Night
URL;VALUE=URI:https://www.tusd.org/schools/yukon/calendar/8560373/literacy-
 night
DTSTART;VALUE=DATE:20260312
DTEND;VALUE=DATE:20260313
END:VEVENT
END:VCALENDAR
