BEGIN:VCALENDAR
VERSION:2.0
PRODID:SchoolNow
CALSCALE:GREGORIAN
BEGIN:VEVENT
UID:2492a64c-853e-11f0-b2af-0a58a9feac02
DTSTAMP:20251216T154651Z
SUMMARY:March 9-20 Read-A-Thon
URL;VALUE=URI:https://www.tusd.org/schools/yukon/calendar/8560372/march-9-2
 0-read-a-thon
DTSTART;VALUE=DATE:20260316
DTEND;VALUE=DATE:20260321
END:VEVENT
END:VCALENDAR
