BEGIN:VCALENDAR
VERSION:2.0
PRODID:SchoolNow
CALSCALE:GREGORIAN
BEGIN:VEVENT
UID:2492a480-853e-11f0-8174-0a58a9feac02
DTSTAMP:20251216T154651Z
SUMMARY:Professional Development - No school
URL;VALUE=URI:https://www.tusd.org/schools/yukon/calendar/8560370/professio
 nal-development-no-school
DTSTART;VALUE=DATE:20260306
DTEND;VALUE=DATE:20260307
END:VEVENT
END:VCALENDAR
