BEGIN:VCALENDAR
VERSION:2.0
PRODID:SchoolNow
CALSCALE:GREGORIAN
BEGIN:VEVENT
UID:2492a39a-853e-11f0-9e5b-0a58a9feac02
DTSTAMP:20251216T154651Z
SUMMARY:Distict STEAM Fair
URL;VALUE=URI:https://www.tusd.org/schools/yukon/calendar/8560369/distict-s
 team-fair
DTSTART;VALUE=DATE:20260305
DTEND;VALUE=DATE:20260306
END:VEVENT
END:VCALENDAR
