BEGIN:VCALENDAR
VERSION:2.0
PRODID:SchoolNow
CALSCALE:GREGORIAN
BEGIN:VEVENT
UID:2492a296-853e-11f0-9b5e-0a58a9feac02
DTSTAMP:20251216T154651Z
SUMMARY:PTA Assoc mtg/Family Holiday Social
URL;VALUE=URI:https://www.tusd.org/schools/yukon/calendar/8560368/pta-assoc
 -mtg-family-holiday-social
DTSTART;VALUE=DATE:20251218
DTEND;VALUE=DATE:20251219
END:VEVENT
END:VCALENDAR
