BEGIN:VCALENDAR
VERSION:2.0
PRODID:SchoolNow
CALSCALE:GREGORIAN
BEGIN:VEVENT
UID:3d3f3780-83a6-11f0-a3c8-0a58a9feac02
DTSTAMP:20251216T154651Z
SUMMARY:Lincoln Holiday - No School
URL;VALUE=URI:https://www.tusd.org/schools/yukon/calendar/8552185/lincoln-h
 oliday-no-school
DTSTART;VALUE=DATE:20260209
DTEND;VALUE=DATE:20260210
END:VEVENT
END:VCALENDAR
