BEGIN:VCALENDAR
VERSION:2.0
PRODID:SchoolNow
CALSCALE:GREGORIAN
BEGIN:VEVENT
UID:3d3f3690-83a6-11f0-bd7e-0a58a9feac02
DTSTAMP:20251216T154651Z
SUMMARY:PTA HSA and Reflections night
URL;VALUE=URI:https://www.tusd.org/schools/yukon/calendar/8552184/pta-hsa-a
 nd-reflections-night
DTSTART;VALUE=DATE:20260129
DTEND;VALUE=DATE:20260130
END:VEVENT
END:VCALENDAR
