BEGIN:VCALENDAR
VERSION:2.0
PRODID:SchoolNow
CALSCALE:GREGORIAN
BEGIN:VEVENT
UID:3d3f358c-83a6-11f0-94be-0a58a9feac02
DTSTAMP:20251216T154651Z
SUMMARY:DELMAC at Levy
URL;VALUE=URI:https://www.tusd.org/schools/yukon/calendar/8552183/delmac-at
 -levy
DTSTART;VALUE=DATE:20260123
DTEND;VALUE=DATE:20260124
END:VEVENT
END:VCALENDAR
