BEGIN:VCALENDAR
VERSION:2.0
PRODID:SchoolNow
CALSCALE:GREGORIAN
BEGIN:VEVENT
UID:3d3f3460-83a6-11f0-98b9-0a58a9feac02
DTSTAMP:20251216T154651Z
SUMMARY:Parent Conferences Jan 20-29
URL;VALUE=URI:https://www.tusd.org/schools/yukon/calendar/8552182/parent-co
 nferences-jan-20-29
DTSTART;VALUE=DATE:20260120
DTEND;VALUE=DATE:20260130
END:VEVENT
END:VCALENDAR
