BEGIN:VCALENDAR
VERSION:2.0
PRODID:SchoolNow
CALSCALE:GREGORIAN
BEGIN:VEVENT
UID:3d3f3172-83a6-11f0-9704-0a58a9feac02
DTSTAMP:20251216T154651Z
SUMMARY:Achievement Reports on PS
URL;VALUE=URI:https://www.tusd.org/schools/yukon/calendar/8552181/achieveme
 nt-reports-on-ps
DTSTART;VALUE=DATE:20260116
DTEND;VALUE=DATE:20260117
END:VEVENT
END:VCALENDAR
