BEGIN:VCALENDAR
VERSION:2.0
PRODID:SchoolNow
CALSCALE:GREGORIAN
BEGIN:VEVENT
UID:4643ad56-82da-11f0-882b-0a58a9feac02
DTSTAMP:20251216T154651Z
SUMMARY:Progress Reports on PS
URL;VALUE=URI:https://www.tusd.org/schools/yukon/calendar/8548017/progress-
 reports-on-ps
DTSTART;VALUE=DATE:20251205
DTEND;VALUE=DATE:20251206
END:VEVENT
END:VCALENDAR
