BEGIN:VCALENDAR
VERSION:2.0
PRODID:SchoolNow
CALSCALE:GREGORIAN
BEGIN:VEVENT
UID:4643ab62-82da-11f0-b6ee-0a58a9feac02
DTSTAMP:20251216T154651Z
SUMMARY:Red Ribbon Week
URL;VALUE=URI:https://www.tusd.org/schools/yukon/calendar/8548015/red-ribbo
 n-week
DTSTART;VALUE=DATE:20251027
DTEND;VALUE=DATE:20251101
END:VEVENT
END:VCALENDAR
