BEGIN:VCALENDAR
VERSION:2.0
PRODID:SchoolNow
CALSCALE:GREGORIAN
BEGIN:VEVENT
UID:4643a978-82da-11f0-b8f5-0a58a9feac02
DTSTAMP:20251216T154651Z
SUMMARY:Family Math & Astronomy Night
URL;VALUE=URI:https://www.tusd.org/schools/yukon/calendar/8548013/family-ma
 th-astronomy-night
DTSTART:20251121T020000Z
DTEND:20251121T030000Z
END:VEVENT
END:VCALENDAR
