BEGIN:VCALENDAR
VERSION:2.0
PRODID:SchoolNow
CALSCALE:GREGORIAN
BEGIN:VEVENT
UID:4643a888-82da-11f0-8a14-0a58a9feac02
DTSTAMP:20251216T154651Z
SUMMARY:Veteran's Day - No school
URL;VALUE=URI:https://www.tusd.org/schools/yukon/calendar/8548012/veterans-
 day-no-school
DTSTART;VALUE=DATE:20251111
DTEND;VALUE=DATE:20251112
END:VEVENT
END:VCALENDAR
