BEGIN:VCALENDAR
VERSION:2.0
PRODID:SchoolNow
CALSCALE:GREGORIAN
BEGIN:VEVENT
UID:4643a798-82da-11f0-ac50-0a58a9feac02
DTSTAMP:20251216T154651Z
SUMMARY:Non Instructional day - No School
URL;VALUE=URI:https://www.tusd.org/schools/yukon/calendar/8548011/non-instr
 uctional-day-no-school
DTSTART;VALUE=DATE:20251110
DTEND;VALUE=DATE:20251111
END:VEVENT
END:VCALENDAR
