BEGIN:VCALENDAR
VERSION:2.0
PRODID:SchoolNow
CALSCALE:GREGORIAN
BEGIN:VEVENT
UID:46439ee2-82da-11f0-b5f6-0a58a9feac02
DTSTAMP:20251216T154651Z
SUMMARY:Fall Festival
URL;VALUE=URI:https://www.tusd.org/schools/yukon/calendar/8548009/fall-fest
 ival
DTSTART;VALUE=DATE:20251024
DTEND;VALUE=DATE:20251025
END:VEVENT
END:VCALENDAR
