BEGIN:VCALENDAR
VERSION:2.0
PRODID:SchoolNow
CALSCALE:GREGORIAN
BEGIN:VEVENT
UID:46439e06-82da-11f0-a5b8-0a58a9feac02
DTSTAMP:20251216T154651Z
SUMMARY:SSC meeting
URL;VALUE=URI:https://www.tusd.org/schools/yukon/calendar/8548008/ssc-meeti
 ng
DTSTART;VALUE=DATE:20251021
DTEND;VALUE=DATE:20251022
END:VEVENT
END:VCALENDAR
