BEGIN:VCALENDAR
VERSION:2.0
PRODID:SchoolNow
CALSCALE:GREGORIAN
BEGIN:VEVENT
UID:46439d2a-82da-11f0-a626-0a58a9feac02
DTSTAMP:20251216T154651Z
SUMMARY:Skecher's Friendship Walk
URL;VALUE=URI:https://www.tusd.org/schools/yukon/calendar/8548007/skechers-
 friendship-walk
DTSTART;VALUE=DATE:20251019
DTEND;VALUE=DATE:20251020
END:VEVENT
END:VCALENDAR
