BEGIN:VCALENDAR
VERSION:2.0
PRODID:SchoolNow
CALSCALE:GREGORIAN
BEGIN:VEVENT
UID:46439c4e-82da-11f0-8b17-0a58a9feac02
DTSTAMP:20251216T154651Z
SUMMARY:TUSD DELMAC at Levy 10 am
URL;VALUE=URI:https://www.tusd.org/schools/yukon/calendar/8548006/tusd-delm
 ac-at-levy-10-am
DTSTART;VALUE=DATE:20251017
DTEND;VALUE=DATE:20251018
END:VEVENT
END:VCALENDAR
