BEGIN:VCALENDAR
VERSION:2.0
PRODID:SchoolNow
CALSCALE:GREGORIAN
BEGIN:VEVENT
UID:46439b72-82da-11f0-b6d4-0a58a9feac02
DTSTAMP:20251216T154651Z
SUMMARY:Invite only conferences early dismissal
URL;VALUE=URI:https://www.tusd.org/schools/yukon/calendar/8548005/invite-on
 ly-conferences-early-dismissal
DTSTART;VALUE=DATE:20251016
DTEND;VALUE=DATE:20251018
END:VEVENT
END:VCALENDAR
