BEGIN:VCALENDAR
VERSION:2.0
PRODID:SchoolNow
CALSCALE:GREGORIAN
BEGIN:VEVENT
UID:46439a96-82da-11f0-bb54-0a58a9feac02
DTSTAMP:20251216T154651Z
SUMMARY:PTA Reflection Entries due
URL;VALUE=URI:https://www.tusd.org/schools/yukon/calendar/8548004/pta-refle
 ction-entries-due
DTSTART;VALUE=DATE:20251010
DTEND;VALUE=DATE:20251011
END:VEVENT
END:VCALENDAR
