BEGIN:VCALENDAR
VERSION:2.0
PRODID:SchoolNow
CALSCALE:GREGORIAN
BEGIN:VEVENT
UID:464399b0-82da-11f0-9ea5-0a58a9feac02
DTSTAMP:20251216T154651Z
SUMMARY:Progress Reports available on PS
URL;VALUE=URI:https://www.tusd.org/schools/yukon/calendar/8548003/progress-
 reports-available-on-ps
DTSTART;VALUE=DATE:20251010
DTEND;VALUE=DATE:20251011
END:VEVENT
END:VCALENDAR
