BEGIN:VCALENDAR
VERSION:2.0
PRODID:SchoolNow
CALSCALE:GREGORIAN
BEGIN:VEVENT
UID:464398ca-82da-11f0-b4df-0a58a9feac02
DTSTAMP:20251216T154651Z
SUMMARY:Family Art Night
URL;VALUE=URI:https://www.tusd.org/schools/yukon/calendar/8548002/family-ar
 t-night
DTSTART;VALUE=DATE:20251009
DTEND;VALUE=DATE:20251010
END:VEVENT
END:VCALENDAR
