BEGIN:VCALENDAR
VERSION:2.0
PRODID:SchoolNow
CALSCALE:GREGORIAN
BEGIN:VEVENT
UID:464397e4-82da-11f0-b5b8-0a58a9feac02
DTSTAMP:20251216T154651Z
SUMMARY:Fall Make-up picture day
URL;VALUE=URI:https://www.tusd.org/schools/yukon/calendar/8548001/fall-make
 -up-picture-day
DTSTART;VALUE=DATE:20251009
DTEND;VALUE=DATE:20251010
END:VEVENT
END:VCALENDAR
