BEGIN:VCALENDAR
VERSION:2.0
PRODID:SchoolNow
CALSCALE:GREGORIAN
BEGIN:VEVENT
UID:464396fe-82da-11f0-ab84-0a58a9feac02
DTSTAMP:20251216T154651Z
SUMMARY:ELMAC at Yukon
URL;VALUE=URI:https://www.tusd.org/schools/yukon/calendar/8548000/elmac-at-
 yukon
DTSTART:20251007T223000Z
DTEND:20251007T233000Z
END:VEVENT
END:VCALENDAR
