BEGIN:VCALENDAR
VERSION:2.0
PRODID:SchoolNow
CALSCALE:GREGORIAN
BEGIN:VEVENT
UID:4643960e-82da-11f0-8ef4-0a58a9feac02
DTSTAMP:20251216T154651Z
SUMMARY:Wreath Fundraiser starts
URL;VALUE=URI:https://www.tusd.org/schools/yukon/calendar/8547999/wreath-fu
 ndraiser-starts
DTSTART;VALUE=DATE:20251006
DTEND;VALUE=DATE:20251007
END:VEVENT
END:VCALENDAR
