BEGIN:VCALENDAR
VERSION:2.0
PRODID:SchoolNow
CALSCALE:GREGORIAN
BEGIN:VEVENT
UID:46439528-82da-11f0-8ea0-0a58a9feac02
DTSTAMP:20251216T154651Z
SUMMARY:Non instructional teaching day - No School
URL;VALUE=URI:https://www.tusd.org/schools/yukon/calendar/8547998/non-instr
 uctional-teaching-day-no-school
DTSTART;VALUE=DATE:20251002
DTEND;VALUE=DATE:20251003
END:VEVENT
END:VCALENDAR
