BEGIN:VCALENDAR
VERSION:2.0
PRODID:SchoolNow
CALSCALE:GREGORIAN
BEGIN:VEVENT
UID:4643942e-82da-11f0-855c-0a58a9feac02
DTSTAMP:20251216T154651Z
SUMMARY:Fall Book Fair/Penny Wars Week
URL;VALUE=URI:https://www.tusd.org/schools/yukon/calendar/8547997/fall-book
 -fair-penny-wars-week
DTSTART;VALUE=DATE:20250922
DTEND;VALUE=DATE:20250927
END:VEVENT
END:VCALENDAR
