BEGIN:VCALENDAR
VERSION:2.0
PRODID:SchoolNow
CALSCALE:GREGORIAN
BEGIN:VEVENT
UID:4643932a-82da-11f0-b5cc-0a58a9feac02
DTSTAMP:20251216T154651Z
SUMMARY:No School for Students
URL;VALUE=URI:https://www.tusd.org/schools/yukon/calendar/8547996/no-school
 -for-students
DTSTART;VALUE=DATE:20250919
DTEND;VALUE=DATE:20250920
END:VEVENT
END:VCALENDAR
