BEGIN:VCALENDAR
VERSION:2.0
PRODID:SchoolNow
CALSCALE:GREGORIAN
BEGIN:VEVENT
UID:46439208-82da-11f0-b9b7-0a58a9feac02
DTSTAMP:20251216T154651Z
SUMMARY:PTA Glow Party
URL;VALUE=URI:https://www.tusd.org/schools/yukon/calendar/8547995/pta-glow-
 party
DTSTART:20250919T010000Z
DTEND:20250919T030000Z
END:VEVENT
END:VCALENDAR
