BEGIN:VCALENDAR
VERSION:2.0
PRODID:SchoolNow
CALSCALE:GREGORIAN
BEGIN:VEVENT
UID:46438dbc-82da-11f0-85e2-0a58a9feac02
DTSTAMP:20251216T154651Z
SUMMARY:Back to School Night - Early dismissal
URL;VALUE=URI:https://www.tusd.org/schools/yukon/calendar/8547993/back-to-s
 chool-night-early-dismissal
DTSTART;VALUE=DATE:20250904
DTEND;VALUE=DATE:20250905
END:VEVENT
END:VCALENDAR
