BEGIN:VCALENDAR
VERSION:2.0
PRODID:SchoolNow
CALSCALE:GREGORIAN
BEGIN:VEVENT
UID:8ef9fd8a-3cec-11f1-9baa-027a15eda1e3
DTSTAMP:20260421T132513Z
SUMMARY:TUSD Bike Rodeo at Victor Elementary
URL;VALUE=URI:https://www.tusd.org/schools/wood/calendar/9007509/tusd-bike-
 rodeo-at-victor-elementary
DTSTART;VALUE=DATE:20260425
DTEND;VALUE=DATE:20260426
END:VEVENT
END:VCALENDAR
