BEGIN:VCALENDAR
VERSION:2.0
PRODID:SchoolNow
CALSCALE:GREGORIAN
BEGIN:VEVENT
UID:b9577a4a-39bc-11f1-8970-0e1c1792be93
DTSTAMP:20260423T015513Z
SUMMARY:5th Grade Panorama Photo
URL;VALUE=URI:https://www.tusd.org/schools/wood/calendar/8998255/5th-grade-
 panorama-photo
DTSTART;VALUE=DATE:20270408
DTEND;VALUE=DATE:20270409
END:VEVENT
END:VCALENDAR
