BEGIN:VCALENDAR
VERSION:2.0
PRODID:SchoolNow
CALSCALE:GREGORIAN
BEGIN:VEVENT
UID:b9577928-39bc-11f1-a458-0e1c1792be93
DTSTAMP:20260423T015513Z
SUMMARY:Spring Picture Day
URL;VALUE=URI:https://www.tusd.org/schools/wood/calendar/8998254/spring-pic
 ture-day
DTSTART;VALUE=DATE:20270318
DTEND;VALUE=DATE:20270319
END:VEVENT
END:VCALENDAR
