BEGIN:VCALENDAR
VERSION:2.0
PRODID:SchoolNow
CALSCALE:GREGORIAN
BEGIN:VEVENT
UID:b95777ca-39bc-11f1-bc87-0e1c1792be93
DTSTAMP:20260422T195013Z
SUMMARY:Fall Picture Day Retake
URL;VALUE=URI:https://www.tusd.org/schools/wood/calendar/8998253/fall-pictu
 re-day-retake
DTSTART;VALUE=DATE:20261203
DTEND;VALUE=DATE:20261204
END:VEVENT
END:VCALENDAR
