BEGIN:VCALENDAR
VERSION:2.0
PRODID:SchoolNow
CALSCALE:GREGORIAN
BEGIN:VEVENT
UID:b9577400-39bc-11f1-8e12-0e1c1792be93
DTSTAMP:20260422T134514Z
SUMMARY:Fall Picture Day
URL;VALUE=URI:https://www.tusd.org/schools/wood/calendar/8998252/fall-pictu
 re-day
DTSTART;VALUE=DATE:20261009
DTEND;VALUE=DATE:20261010
END:VEVENT
END:VCALENDAR
