BEGIN:VCALENDAR
VERSION:2.0
PRODID:SchoolNow
CALSCALE:GREGORIAN
BEGIN:VEVENT
UID:c31c1a8a-38f0-11f1-b421-0a58a9feac02
DTSTAMP:20260422T134514Z
SUMMARY:SUMMER SOAR
URL;VALUE=URI:https://www.tusd.org/schools/wood/calendar/8995925/summer-soa
 r
DTSTART;VALUE=DATE:20260601
DTEND;VALUE=DATE:20260606
END:VEVENT
END:VCALENDAR
