BEGIN:VCALENDAR
VERSION:2.0
PRODID:SchoolNow
CALSCALE:GREGORIAN
BEGIN:VEVENT
UID:c31c17e2-38f0-11f1-8ac1-0a58a9feac02
DTSTAMP:20260422T134514Z
SUMMARY:5th grade field day  10:45
URL;VALUE=URI:https://www.tusd.org/schools/wood/calendar/8995924/5th-grade-
 field-day-10-45
DTSTART;VALUE=DATE:20260610
DTEND;VALUE=DATE:20260611
END:VEVENT
END:VCALENDAR
