BEGIN:VCALENDAR
VERSION:2.0
PRODID:SchoolNow
CALSCALE:GREGORIAN
BEGIN:VEVENT
UID:c31c1526-38f0-11f1-bc0a-0a58a9feac02
DTSTAMP:20260422T134514Z
SUMMARY:Kinder performance 1:30pm
URL;VALUE=URI:https://www.tusd.org/schools/wood/calendar/8995923/kinder-per
 formance-1-30pm
DTSTART;VALUE=DATE:20260610
DTEND;VALUE=DATE:20260611
END:VEVENT
END:VCALENDAR
