BEGIN:VCALENDAR
VERSION:2.0
PRODID:SchoolNow
CALSCALE:GREGORIAN
BEGIN:VEVENT
UID:c31c101c-38f0-11f1-a3e3-0a58a9feac02
DTSTAMP:20260422T134514Z
SUMMARY:5th grade trip to JH Hull 10:40am
URL;VALUE=URI:https://www.tusd.org/schools/wood/calendar/8995922/5th-grade-
 trip-to-jh-hull-10-40am
DTSTART;VALUE=DATE:20260601
DTEND;VALUE=DATE:20260602
END:VEVENT
END:VCALENDAR
