BEGIN:VCALENDAR
VERSION:2.0
PRODID:SchoolNow
CALSCALE:GREGORIAN
BEGIN:VEVENT
UID:d533915a-378b-11f1-b5d6-0a58a9feac02
DTSTAMP:20260422T074012Z
SUMMARY:TK/Kinder Info Presentation 2:15pm Rm k1
URL;VALUE=URI:https://www.tusd.org/schools/wood/calendar/8991666/tk-kinder-
 info-presentation-2-15pm-rm-k1
DTSTART:20260527T211500Z
DTEND:20260527T221500Z
END:VEVENT
END:VCALENDAR
