BEGIN:VCALENDAR
VERSION:2.0
PRODID:SchoolNow
CALSCALE:GREGORIAN
BEGIN:VEVENT
UID:d858c130-3758-11f1-8021-0a58a9feac02
DTSTAMP:20260422T134514Z
SUMMARY:5th grade recognition 1:30pm
URL;VALUE=URI:https://www.tusd.org/schools/wood/calendar/8990860/5th-grade-
 recognition-1-30pm
DTSTART;VALUE=DATE:20260609
DTEND;VALUE=DATE:20260610
END:VEVENT
END:VCALENDAR
