BEGIN:VCALENDAR
VERSION:2.0
PRODID:SchoolNow
CALSCALE:GREGORIAN
BEGIN:VEVENT
UID:65c7095a-2c64-11f1-86ed-0ed702fb4fa1
DTSTAMP:20260422T074012Z
SUMMARY:Lunch w/ Someone Special & Portfolio Day
URL;VALUE=URI:https://www.tusd.org/schools/wood/calendar/8957941/lunch-w-so
 meone-special-portfolio-day
DTSTART;VALUE=DATE:20260522
DTEND;VALUE=DATE:20260523
END:VEVENT
END:VCALENDAR
