BEGIN:VCALENDAR
VERSION:2.0
PRODID:SchoolNow
CALSCALE:GREGORIAN
BEGIN:VEVENT
UID:97457984-289b-11f1-893d-02f312a08f31
DTSTAMP:20260422T134514Z
SUMMARY:TK trip to the fire station
URL;VALUE=URI:https://www.tusd.org/schools/wood/calendar/8945543/tk-trip-to
 -the-fire-station
DTSTART;VALUE=DATE:20260604
DTEND;VALUE=DATE:20260605
END:VEVENT
END:VCALENDAR
